BEGIN:VCALENDAR
VERSION:2.0
PRODID:-//Youth Council - Free Presbyterian Church - ECPv5.3.2.1//NONSGML v1.0//EN
CALSCALE:GREGORIAN
METHOD:PUBLISH
X-WR-CALNAME:Youth Council - Free Presbyterian Church
X-ORIGINAL-URL:https://fpcyouth.org
X-WR-CALDESC:Events for Youth Council - Free Presbyterian Church
BEGIN:VTIMEZONE
TZID:Europe/London
BEGIN:DAYLIGHT
TZOFFSETFROM:+0000
TZOFFSETTO:+0100
TZNAME:BST
DTSTART:20260329T010000
END:DAYLIGHT
BEGIN:STANDARD
TZOFFSETFROM:+0100
TZOFFSETTO:+0000
TZNAME:GMT
DTSTART:20261025T010000
END:STANDARD
END:VTIMEZONE
BEGIN:VEVENT
DTSTART;VALUE=DATE:20260624
DTEND;VALUE=DATE:20260709
DTSTAMP:20260422T185714
CREATED:20260105T214306Z
LAST-MODIFIED:20260105T214306Z
UID:11759-1782259200-1783555199@fpcyouth.org
SUMMARY:Mission Trip To Uganda organised by FPC Mission
DESCRIPTION:24th June 2026 – 8th July 2026\nApplications are now open for the FPC Mission 2026 Mission Trip to Uganda. \nThis is a great opportunity to join a team of young people who are seeking to learn more about the Mission work in Africa and experience the following:- \n• Fellowship with the Emmanuel Church family\n• Help with VBS and Youth Meetings\n• Engage in outreach\n• Assist and encourage our missionaries in Uganda \nThe cost of the trip is capped at £1100\, with the balance being subsidised by the Mission Board. \nApplicants must be 18 years of age or older and have the support of their local Church Session. \nPlaces on this trip are limited to help manage logistics. \nApply By Clicking Here to access the application form.
URL:https://fpcyouth.org/event/uganda-2026/
LOCATION:Uganda\, Uganda
CATEGORIES:Outreach
ATTACH;FMTTYPE=image/jpeg:https://fpcyouth.org/wp-content/uploads/236608242_355682662767456_1310504668659916661_n.jpg
END:VEVENT
END:VCALENDAR