BEGIN:VCALENDAR
VERSION:2.0
PRODID:-//Youth Council - Free Presbyterian Church - ECPv5.3.2.1//NONSGML v1.0//EN
CALSCALE:GREGORIAN
METHOD:PUBLISH
X-WR-CALNAME:Youth Council - Free Presbyterian Church
X-ORIGINAL-URL:https://fpcyouth.org
X-WR-CALDESC:Events for Youth Council - Free Presbyterian Church
BEGIN:VTIMEZONE
TZID:Europe/London
BEGIN:DAYLIGHT
TZOFFSETFROM:+0000
TZOFFSETTO:+0100
TZNAME:BST
DTSTART:20260329T010000
END:DAYLIGHT
BEGIN:STANDARD
TZOFFSETFROM:+0100
TZOFFSETTO:+0000
TZNAME:GMT
DTSTART:20261025T010000
END:STANDARD
END:VTIMEZONE
BEGIN:VEVENT
DTSTART;TZID=Europe/London:20260810T090000
DTEND;TZID=Europe/London:20260814T213000
DTSTAMP:20260422T171728
CREATED:20260204T183217Z
LAST-MODIFIED:20260204T210415Z
UID:12196-1786352400-1786743000@fpcyouth.org
SUMMARY:Home Outreach | Belfast\, NI
DESCRIPTION:Each summer the Youth Council organise outreach trips at home\, to the mainland and sometimes further afield.  Home outreach will give you an opportunity to serve amongst the young through bible clubs and other evangelistic efforts as well as encouraging the believers working in the local congregation. You’ll also get to know and fellowship with other likeminded young people as you serve with them. \nThis year we are taking a team to Belfast\, if you would like to be part of this trip complete the form below. \nDates: Monday 10th – Friday 14th August & Sunday evening 16th August (Accommodation will be provided for Monday – Friday)\nAge: 18-30\nCost: £165 (all costs included) \n \n\n\n\n\n\n\n\n\n\n\n\n\nPlease complete one form per person (You will need to refresh the web page between each application.) \nHome Outreach 2026\nBelfast\nMonday 10th - Friday 14th and Sunday 16th August 2026\nCost: £165 (£TBC Deposit)\nAge: 18+\nEvent Code: LO\nClosing date: TBC \n\nA letter of recommendation from your minister /session must be included with this application. Please send your letter to Rev. Julian Patterson at julian.patterson@outlook.com   \nPlease note that the deposit for your selected event is non-refundable\, and must be received no later than TBC. \n- Please make cheques payable to: Free Presbyterian Youth Council\n- To pay by bank transfer\, details are as follows:\n              Account number: 02790327\n              Sort Code: 95-02-61\nPlease include First Name Initial + Surname + Event Code on your bank transfer as reference (eg: JBloggsLO) \nWhat method will you be using to make payment?\nBank TransferCheque \nPersonal Details\n\n\n \nDate of Birth: \nMaleFemale \n\n\n \n \n \n\n\nAddress:\n\n\n\n\n \nPlease outline your interest in outreach and open-air work.\n \nDo you take part in the outreach programmes from your own congregation\, and if so\, please give details of your involvement? \n \nWhat part do you have in the ministry of your congregation to children? \nFor example: Are you a Sunday School teacher? Are you a worker at the children's meeting?  \n \nDetail any other previous experience in outreach & children's work? \nList in particular previous youth Council Summer & Regional Outreaches you have participated in. \n \nAre you a Communicant Member of your church\, and if so\, how long have you been in membership?\nNo\, I'm not a communicant memberYes\, <2 YearsYes\, 3-5 YearsYes\, 6+ Years \nHave you signed the Free Presbyterian Church Child Protection Policy? \nYesNo \nDo you have an Access NI disclosure certificate?\nYesNo \nDetails of GP\n \n \nDetails of any allergies/special needs\n \nPlease Provide two emergency contact numbers
URL:https://fpcyouth.org/event/home-outreach-belfast-2026/
LOCATION:Belfast
CATEGORIES:Fellowship,Outreach
ATTACH;FMTTYPE=image/jpeg:https://fpcyouth.org/wp-content/uploads/20240220_181413-1.jpg
END:VEVENT
END:VCALENDAR